BEGIN:VCALENDAR
VERSION:2.0
PRODID:-//wp-events-plugin.com//7.2.3.1//EN
TZID:America/New_York
X-WR-TIMEZONE:America/New_York
BEGIN:VEVENT
UID:2@nahelp.org
DTSTART;TZID=Europe/Amsterdam:20221003T200000
DTEND;TZID=Europe/Amsterdam:20221003T211500
DTSTAMP:20221126T174003Z
URL:https://nahelp.org/events/a-way-out-group-monday-2022-10-03/
SUMMARY:A Way Out Group - Monday
DESCRIPTION:
LOCATION:Test Location\, Nachtegaalstraat 25C\, Zwolle\, 8011 BV\, Netherla
 nds
X-APPLE-STRUCTURED-LOCATION;VALUE=URI;X-ADDRESS=Nachtegaalstraat 25C\, Zwol
 le\, 8011 BV\, Netherlands;X-APPLE-RADIUS=100;X-TITLE=Test Location:geo:0,
 0
END:VEVENT
BEGIN:VEVENT
UID:3@nahelp.org
DTSTART;TZID=Europe/Amsterdam:20221010T200000
DTEND;TZID=Europe/Amsterdam:20221010T211500
DTSTAMP:20221126T174003Z
URL:https://nahelp.org/events/a-way-out-group-monday-2022-10-10/
SUMMARY:A Way Out Group - Monday
DESCRIPTION:
LOCATION:Test Location\, Nachtegaalstraat 25C\, Zwolle\, 8011 BV\, Netherla
 nds
X-APPLE-STRUCTURED-LOCATION;VALUE=URI;X-ADDRESS=Nachtegaalstraat 25C\, Zwol
 le\, 8011 BV\, Netherlands;X-APPLE-RADIUS=100;X-TITLE=Test Location:geo:0,
 0
END:VEVENT
BEGIN:VEVENT
UID:4@nahelp.org
DTSTART;TZID=Europe/Amsterdam:20221017T200000
DTEND;TZID=Europe/Amsterdam:20221017T211500
DTSTAMP:20221126T174003Z
URL:https://nahelp.org/events/a-way-out-group-monday-2022-10-17/
SUMMARY:A Way Out Group - Monday
DESCRIPTION:
LOCATION:Test Location\, Nachtegaalstraat 25C\, Zwolle\, 8011 BV\, Netherla
 nds
X-APPLE-STRUCTURED-LOCATION;VALUE=URI;X-ADDRESS=Nachtegaalstraat 25C\, Zwol
 le\, 8011 BV\, Netherlands;X-APPLE-RADIUS=100;X-TITLE=Test Location:geo:0,
 0
END:VEVENT
BEGIN:VEVENT
UID:5@nahelp.org
DTSTART;TZID=Europe/Amsterdam:20221024T200000
DTEND;TZID=Europe/Amsterdam:20221024T211500
DTSTAMP:20221126T174003Z
URL:https://nahelp.org/events/a-way-out-group-monday-2022-10-24/
SUMMARY:A Way Out Group - Monday
DESCRIPTION:
LOCATION:Test Location\, Nachtegaalstraat 25C\, Zwolle\, 8011 BV\, Netherla
 nds
X-APPLE-STRUCTURED-LOCATION;VALUE=URI;X-ADDRESS=Nachtegaalstraat 25C\, Zwol
 le\, 8011 BV\, Netherlands;X-APPLE-RADIUS=100;X-TITLE=Test Location:geo:0,
 0
END:VEVENT
BEGIN:VEVENT
UID:6@nahelp.org
DTSTART;TZID=Europe/Amsterdam:20221031T200000
DTEND;TZID=Europe/Amsterdam:20221031T211500
DTSTAMP:20221126T174003Z
URL:https://nahelp.org/events/a-way-out-group-monday-2022-10-31/
SUMMARY:A Way Out Group - Monday
DESCRIPTION:
LOCATION:Test Location\, Nachtegaalstraat 25C\, Zwolle\, 8011 BV\, Netherla
 nds
X-APPLE-STRUCTURED-LOCATION;VALUE=URI;X-ADDRESS=Nachtegaalstraat 25C\, Zwol
 le\, 8011 BV\, Netherlands;X-APPLE-RADIUS=100;X-TITLE=Test Location:geo:0,
 0
END:VEVENT
BEGIN:VEVENT
UID:7@nahelp.org
DTSTART;TZID=Europe/Amsterdam:20221107T200000
DTEND;TZID=Europe/Amsterdam:20221107T211500
DTSTAMP:20221126T174003Z
URL:https://nahelp.org/events/a-way-out-group-monday-2022-11-07/
SUMMARY:A Way Out Group - Monday
DESCRIPTION:
LOCATION:Test Location\, Nachtegaalstraat 25C\, Zwolle\, 8011 BV\, Netherla
 nds
X-APPLE-STRUCTURED-LOCATION;VALUE=URI;X-ADDRESS=Nachtegaalstraat 25C\, Zwol
 le\, 8011 BV\, Netherlands;X-APPLE-RADIUS=100;X-TITLE=Test Location:geo:0,
 0
END:VEVENT
BEGIN:VEVENT
UID:8@nahelp.org
DTSTART;TZID=Europe/Amsterdam:20221114T200000
DTEND;TZID=Europe/Amsterdam:20221114T211500
DTSTAMP:20221126T174003Z
URL:https://nahelp.org/events/a-way-out-group-monday-2022-11-14/
SUMMARY:A Way Out Group - Monday
DESCRIPTION:
LOCATION:Test Location\, Nachtegaalstraat 25C\, Zwolle\, 8011 BV\, Netherla
 nds
X-APPLE-STRUCTURED-LOCATION;VALUE=URI;X-ADDRESS=Nachtegaalstraat 25C\, Zwol
 le\, 8011 BV\, Netherlands;X-APPLE-RADIUS=100;X-TITLE=Test Location:geo:0,
 0
END:VEVENT
BEGIN:VEVENT
UID:9@nahelp.org
DTSTART;TZID=Europe/Amsterdam:20221121T200000
DTEND;TZID=Europe/Amsterdam:20221121T211500
DTSTAMP:20221126T174003Z
URL:https://nahelp.org/events/a-way-out-group-monday-2022-11-21/
SUMMARY:A Way Out Group - Monday
DESCRIPTION:
LOCATION:Test Location\, Nachtegaalstraat 25C\, Zwolle\, 8011 BV\, Netherla
 nds
X-APPLE-STRUCTURED-LOCATION;VALUE=URI;X-ADDRESS=Nachtegaalstraat 25C\, Zwol
 le\, 8011 BV\, Netherlands;X-APPLE-RADIUS=100;X-TITLE=Test Location:geo:0,
 0
END:VEVENT
BEGIN:VEVENT
UID:10@nahelp.org
DTSTART;TZID=Europe/Amsterdam:20221128T200000
DTEND;TZID=Europe/Amsterdam:20221128T211500
DTSTAMP:20221126T174003Z
URL:https://nahelp.org/events/a-way-out-group-monday-2022-11-28/
SUMMARY:A Way Out Group - Monday
DESCRIPTION:
LOCATION:Test Location\, Nachtegaalstraat 25C\, Zwolle\, 8011 BV\, Netherla
 nds
X-APPLE-STRUCTURED-LOCATION;VALUE=URI;X-ADDRESS=Nachtegaalstraat 25C\, Zwol
 le\, 8011 BV\, Netherlands;X-APPLE-RADIUS=100;X-TITLE=Test Location:geo:0,
 0
END:VEVENT
BEGIN:VEVENT
UID:11@nahelp.org
DTSTART;TZID=Europe/Amsterdam:20221205T200000
DTEND;TZID=Europe/Amsterdam:20221205T211500
DTSTAMP:20221126T174003Z
URL:https://nahelp.org/events/a-way-out-group-monday-2022-12-05/
SUMMARY:A Way Out Group - Monday
DESCRIPTION:
LOCATION:Test Location\, Nachtegaalstraat 25C\, Zwolle\, 8011 BV\, Netherla
 nds
X-APPLE-STRUCTURED-LOCATION;VALUE=URI;X-ADDRESS=Nachtegaalstraat 25C\, Zwol
 le\, 8011 BV\, Netherlands;X-APPLE-RADIUS=100;X-TITLE=Test Location:geo:0,
 0
END:VEVENT
BEGIN:VEVENT
UID:12@nahelp.org
DTSTART;TZID=Europe/Amsterdam:20221212T200000
DTEND;TZID=Europe/Amsterdam:20221212T211500
DTSTAMP:20221126T174003Z
URL:https://nahelp.org/events/a-way-out-group-monday-2022-12-12/
SUMMARY:A Way Out Group - Monday
DESCRIPTION:
LOCATION:Test Location\, Nachtegaalstraat 25C\, Zwolle\, 8011 BV\, Netherla
 nds
X-APPLE-STRUCTURED-LOCATION;VALUE=URI;X-ADDRESS=Nachtegaalstraat 25C\, Zwol
 le\, 8011 BV\, Netherlands;X-APPLE-RADIUS=100;X-TITLE=Test Location:geo:0,
 0
END:VEVENT
BEGIN:VEVENT
UID:13@nahelp.org
DTSTART;TZID=Europe/Amsterdam:20221219T200000
DTEND;TZID=Europe/Amsterdam:20221219T211500
DTSTAMP:20221126T174003Z
URL:https://nahelp.org/events/a-way-out-group-monday-2022-12-19/
SUMMARY:A Way Out Group - Monday
DESCRIPTION:
LOCATION:Test Location\, Nachtegaalstraat 25C\, Zwolle\, 8011 BV\, Netherla
 nds
X-APPLE-STRUCTURED-LOCATION;VALUE=URI;X-ADDRESS=Nachtegaalstraat 25C\, Zwol
 le\, 8011 BV\, Netherlands;X-APPLE-RADIUS=100;X-TITLE=Test Location:geo:0,
 0
END:VEVENT
BEGIN:VEVENT
UID:14@nahelp.org
DTSTART;TZID=Europe/Amsterdam:20221226T200000
DTEND;TZID=Europe/Amsterdam:20221226T211500
DTSTAMP:20221126T174003Z
URL:https://nahelp.org/events/a-way-out-group-monday-2022-12-26/
SUMMARY:A Way Out Group - Monday
DESCRIPTION:
LOCATION:Test Location\, Nachtegaalstraat 25C\, Zwolle\, 8011 BV\, Netherla
 nds
X-APPLE-STRUCTURED-LOCATION;VALUE=URI;X-ADDRESS=Nachtegaalstraat 25C\, Zwol
 le\, 8011 BV\, Netherlands;X-APPLE-RADIUS=100;X-TITLE=Test Location:geo:0,
 0
END:VEVENT
BEGIN:VEVENT
UID:15@nahelp.org
DTSTART;TZID=Europe/Amsterdam:20230102T200000
DTEND;TZID=Europe/Amsterdam:20230102T211500
DTSTAMP:20221126T174003Z
URL:https://nahelp.org/events/a-way-out-group-monday-2023-01-02/
SUMMARY:A Way Out Group - Monday
DESCRIPTION:
LOCATION:Test Location\, Nachtegaalstraat 25C\, Zwolle\, 8011 BV\, Netherla
 nds
X-APPLE-STRUCTURED-LOCATION;VALUE=URI;X-ADDRESS=Nachtegaalstraat 25C\, Zwol
 le\, 8011 BV\, Netherlands;X-APPLE-RADIUS=100;X-TITLE=Test Location:geo:0,
 0
END:VEVENT
BEGIN:VEVENT
UID:16@nahelp.org
DTSTART;TZID=Europe/Amsterdam:20230109T200000
DTEND;TZID=Europe/Amsterdam:20230109T211500
DTSTAMP:20221126T174003Z
URL:https://nahelp.org/events/a-way-out-group-monday-2023-01-09/
SUMMARY:A Way Out Group - Monday
DESCRIPTION:
LOCATION:Test Location\, Nachtegaalstraat 25C\, Zwolle\, 8011 BV\, Netherla
 nds
X-APPLE-STRUCTURED-LOCATION;VALUE=URI;X-ADDRESS=Nachtegaalstraat 25C\, Zwol
 le\, 8011 BV\, Netherlands;X-APPLE-RADIUS=100;X-TITLE=Test Location:geo:0,
 0
END:VEVENT
BEGIN:VEVENT
UID:17@nahelp.org
DTSTART;TZID=Europe/Amsterdam:20230116T200000
DTEND;TZID=Europe/Amsterdam:20230116T211500
DTSTAMP:20221126T174003Z
URL:https://nahelp.org/events/a-way-out-group-monday-2023-01-16/
SUMMARY:A Way Out Group - Monday
DESCRIPTION:
LOCATION:Test Location\, Nachtegaalstraat 25C\, Zwolle\, 8011 BV\, Netherla
 nds
X-APPLE-STRUCTURED-LOCATION;VALUE=URI;X-ADDRESS=Nachtegaalstraat 25C\, Zwol
 le\, 8011 BV\, Netherlands;X-APPLE-RADIUS=100;X-TITLE=Test Location:geo:0,
 0
END:VEVENT
BEGIN:VEVENT
UID:18@nahelp.org
DTSTART;TZID=Europe/Amsterdam:20230123T200000
DTEND;TZID=Europe/Amsterdam:20230123T211500
DTSTAMP:20221126T174003Z
URL:https://nahelp.org/events/a-way-out-group-monday-2023-01-23/
SUMMARY:A Way Out Group - Monday
DESCRIPTION:
LOCATION:Test Location\, Nachtegaalstraat 25C\, Zwolle\, 8011 BV\, Netherla
 nds
X-APPLE-STRUCTURED-LOCATION;VALUE=URI;X-ADDRESS=Nachtegaalstraat 25C\, Zwol
 le\, 8011 BV\, Netherlands;X-APPLE-RADIUS=100;X-TITLE=Test Location:geo:0,
 0
END:VEVENT
BEGIN:VEVENT
UID:19@nahelp.org
DTSTART;TZID=Europe/Amsterdam:20230130T200000
DTEND;TZID=Europe/Amsterdam:20230130T211500
DTSTAMP:20221126T174003Z
URL:https://nahelp.org/events/a-way-out-group-monday-2023-01-30/
SUMMARY:A Way Out Group - Monday
DESCRIPTION:
LOCATION:Test Location\, Nachtegaalstraat 25C\, Zwolle\, 8011 BV\, Netherla
 nds
X-APPLE-STRUCTURED-LOCATION;VALUE=URI;X-ADDRESS=Nachtegaalstraat 25C\, Zwol
 le\, 8011 BV\, Netherlands;X-APPLE-RADIUS=100;X-TITLE=Test Location:geo:0,
 0
END:VEVENT
BEGIN:VEVENT
UID:20@nahelp.org
DTSTART;TZID=Europe/Amsterdam:20230206T200000
DTEND;TZID=Europe/Amsterdam:20230206T211500
DTSTAMP:20221126T174003Z
URL:https://nahelp.org/events/a-way-out-group-monday-2023-02-06/
SUMMARY:A Way Out Group - Monday
DESCRIPTION:
LOCATION:Test Location\, Nachtegaalstraat 25C\, Zwolle\, 8011 BV\, Netherla
 nds
X-APPLE-STRUCTURED-LOCATION;VALUE=URI;X-ADDRESS=Nachtegaalstraat 25C\, Zwol
 le\, 8011 BV\, Netherlands;X-APPLE-RADIUS=100;X-TITLE=Test Location:geo:0,
 0
END:VEVENT
BEGIN:VEVENT
UID:21@nahelp.org
DTSTART;TZID=Europe/Amsterdam:20230213T200000
DTEND;TZID=Europe/Amsterdam:20230213T211500
DTSTAMP:20221126T174003Z
URL:https://nahelp.org/events/a-way-out-group-monday-2023-02-13/
SUMMARY:A Way Out Group - Monday
DESCRIPTION:
LOCATION:Test Location\, Nachtegaalstraat 25C\, Zwolle\, 8011 BV\, Netherla
 nds
X-APPLE-STRUCTURED-LOCATION;VALUE=URI;X-ADDRESS=Nachtegaalstraat 25C\, Zwol
 le\, 8011 BV\, Netherlands;X-APPLE-RADIUS=100;X-TITLE=Test Location:geo:0,
 0
END:VEVENT
BEGIN:VEVENT
UID:22@nahelp.org
DTSTART;TZID=Europe/Amsterdam:20230220T200000
DTEND;TZID=Europe/Amsterdam:20230220T211500
DTSTAMP:20221126T174003Z
URL:https://nahelp.org/events/a-way-out-group-monday-2023-02-20/
SUMMARY:A Way Out Group - Monday
DESCRIPTION:
LOCATION:Test Location\, Nachtegaalstraat 25C\, Zwolle\, 8011 BV\, Netherla
 nds
X-APPLE-STRUCTURED-LOCATION;VALUE=URI;X-ADDRESS=Nachtegaalstraat 25C\, Zwol
 le\, 8011 BV\, Netherlands;X-APPLE-RADIUS=100;X-TITLE=Test Location:geo:0,
 0
END:VEVENT
BEGIN:VEVENT
UID:23@nahelp.org
DTSTART;TZID=Europe/Amsterdam:20230227T200000
DTEND;TZID=Europe/Amsterdam:20230227T211500
DTSTAMP:20221126T174003Z
URL:https://nahelp.org/events/a-way-out-group-monday-2023-02-27/
SUMMARY:A Way Out Group - Monday
DESCRIPTION:
LOCATION:Test Location\, Nachtegaalstraat 25C\, Zwolle\, 8011 BV\, Netherla
 nds
X-APPLE-STRUCTURED-LOCATION;VALUE=URI;X-ADDRESS=Nachtegaalstraat 25C\, Zwol
 le\, 8011 BV\, Netherlands;X-APPLE-RADIUS=100;X-TITLE=Test Location:geo:0,
 0
END:VEVENT
BEGIN:VEVENT
UID:24@nahelp.org
DTSTART;TZID=Europe/Amsterdam:20230306T200000
DTEND;TZID=Europe/Amsterdam:20230306T211500
DTSTAMP:20221126T174003Z
URL:https://nahelp.org/events/a-way-out-group-monday-2023-03-06/
SUMMARY:A Way Out Group - Monday
DESCRIPTION:
LOCATION:Test Location\, Nachtegaalstraat 25C\, Zwolle\, 8011 BV\, Netherla
 nds
X-APPLE-STRUCTURED-LOCATION;VALUE=URI;X-ADDRESS=Nachtegaalstraat 25C\, Zwol
 le\, 8011 BV\, Netherlands;X-APPLE-RADIUS=100;X-TITLE=Test Location:geo:0,
 0
END:VEVENT
BEGIN:VEVENT
UID:25@nahelp.org
DTSTART;TZID=Europe/Amsterdam:20230313T200000
DTEND;TZID=Europe/Amsterdam:20230313T211500
DTSTAMP:20221126T174003Z
URL:https://nahelp.org/events/a-way-out-group-monday-2023-03-13/
SUMMARY:A Way Out Group - Monday
DESCRIPTION:
LOCATION:Test Location\, Nachtegaalstraat 25C\, Zwolle\, 8011 BV\, Netherla
 nds
X-APPLE-STRUCTURED-LOCATION;VALUE=URI;X-ADDRESS=Nachtegaalstraat 25C\, Zwol
 le\, 8011 BV\, Netherlands;X-APPLE-RADIUS=100;X-TITLE=Test Location:geo:0,
 0
END:VEVENT
BEGIN:VEVENT
UID:26@nahelp.org
DTSTART;TZID=Europe/Amsterdam:20230320T200000
DTEND;TZID=Europe/Amsterdam:20230320T211500
DTSTAMP:20221126T174003Z
URL:https://nahelp.org/events/a-way-out-group-monday-2023-03-20/
SUMMARY:A Way Out Group - Monday
DESCRIPTION:
LOCATION:Test Location\, Nachtegaalstraat 25C\, Zwolle\, 8011 BV\, Netherla
 nds
X-APPLE-STRUCTURED-LOCATION;VALUE=URI;X-ADDRESS=Nachtegaalstraat 25C\, Zwol
 le\, 8011 BV\, Netherlands;X-APPLE-RADIUS=100;X-TITLE=Test Location:geo:0,
 0
END:VEVENT
BEGIN:VEVENT
UID:27@nahelp.org
DTSTART;TZID=Europe/Amsterdam:20230327T200000
DTEND;TZID=Europe/Amsterdam:20230327T211500
DTSTAMP:20221126T174003Z
URL:https://nahelp.org/events/a-way-out-group-monday-2023-03-27/
SUMMARY:A Way Out Group - Monday
DESCRIPTION:
LOCATION:Test Location\, Nachtegaalstraat 25C\, Zwolle\, 8011 BV\, Netherla
 nds
X-APPLE-STRUCTURED-LOCATION;VALUE=URI;X-ADDRESS=Nachtegaalstraat 25C\, Zwol
 le\, 8011 BV\, Netherlands;X-APPLE-RADIUS=100;X-TITLE=Test Location:geo:0,
 0
END:VEVENT
BEGIN:VEVENT
UID:28@nahelp.org
DTSTART;TZID=Europe/Amsterdam:20230403T200000
DTEND;TZID=Europe/Amsterdam:20230403T211500
DTSTAMP:20221126T174003Z
URL:https://nahelp.org/events/a-way-out-group-monday-2023-04-03/
SUMMARY:A Way Out Group - Monday
DESCRIPTION:
LOCATION:Test Location\, Nachtegaalstraat 25C\, Zwolle\, 8011 BV\, Netherla
 nds
X-APPLE-STRUCTURED-LOCATION;VALUE=URI;X-ADDRESS=Nachtegaalstraat 25C\, Zwol
 le\, 8011 BV\, Netherlands;X-APPLE-RADIUS=100;X-TITLE=Test Location:geo:0,
 0
END:VEVENT
BEGIN:VEVENT
UID:29@nahelp.org
DTSTART;TZID=Europe/Amsterdam:20230410T200000
DTEND;TZID=Europe/Amsterdam:20230410T211500
DTSTAMP:20221126T174003Z
URL:https://nahelp.org/events/a-way-out-group-monday-2023-04-10/
SUMMARY:A Way Out Group - Monday
DESCRIPTION:
LOCATION:Test Location\, Nachtegaalstraat 25C\, Zwolle\, 8011 BV\, Netherla
 nds
X-APPLE-STRUCTURED-LOCATION;VALUE=URI;X-ADDRESS=Nachtegaalstraat 25C\, Zwol
 le\, 8011 BV\, Netherlands;X-APPLE-RADIUS=100;X-TITLE=Test Location:geo:0,
 0
END:VEVENT
BEGIN:VEVENT
UID:30@nahelp.org
DTSTART;TZID=Europe/Amsterdam:20230417T200000
DTEND;TZID=Europe/Amsterdam:20230417T211500
DTSTAMP:20221126T174003Z
URL:https://nahelp.org/events/a-way-out-group-monday-2023-04-17/
SUMMARY:A Way Out Group - Monday
DESCRIPTION:
LOCATION:Test Location\, Nachtegaalstraat 25C\, Zwolle\, 8011 BV\, Netherla
 nds
X-APPLE-STRUCTURED-LOCATION;VALUE=URI;X-ADDRESS=Nachtegaalstraat 25C\, Zwol
 le\, 8011 BV\, Netherlands;X-APPLE-RADIUS=100;X-TITLE=Test Location:geo:0,
 0
END:VEVENT
BEGIN:VEVENT
UID:31@nahelp.org
DTSTART;TZID=Europe/Amsterdam:20230424T200000
DTEND;TZID=Europe/Amsterdam:20230424T211500
DTSTAMP:20221126T174003Z
URL:https://nahelp.org/events/a-way-out-group-monday-2023-04-24/
SUMMARY:A Way Out Group - Monday
DESCRIPTION:
LOCATION:Test Location\, Nachtegaalstraat 25C\, Zwolle\, 8011 BV\, Netherla
 nds
X-APPLE-STRUCTURED-LOCATION;VALUE=URI;X-ADDRESS=Nachtegaalstraat 25C\, Zwol
 le\, 8011 BV\, Netherlands;X-APPLE-RADIUS=100;X-TITLE=Test Location:geo:0,
 0
END:VEVENT
BEGIN:VEVENT
UID:32@nahelp.org
DTSTART;TZID=Europe/Amsterdam:20230501T200000
DTEND;TZID=Europe/Amsterdam:20230501T211500
DTSTAMP:20221126T174003Z
URL:https://nahelp.org/events/a-way-out-group-monday-2023-05-01/
SUMMARY:A Way Out Group - Monday
DESCRIPTION:
LOCATION:Test Location\, Nachtegaalstraat 25C\, Zwolle\, 8011 BV\, Netherla
 nds
X-APPLE-STRUCTURED-LOCATION;VALUE=URI;X-ADDRESS=Nachtegaalstraat 25C\, Zwol
 le\, 8011 BV\, Netherlands;X-APPLE-RADIUS=100;X-TITLE=Test Location:geo:0,
 0
END:VEVENT
BEGIN:VEVENT
UID:33@nahelp.org
DTSTART;TZID=Europe/Amsterdam:20230508T200000
DTEND;TZID=Europe/Amsterdam:20230508T211500
DTSTAMP:20221126T174003Z
URL:https://nahelp.org/events/a-way-out-group-monday-2023-05-08/
SUMMARY:A Way Out Group - Monday
DESCRIPTION:
LOCATION:Test Location\, Nachtegaalstraat 25C\, Zwolle\, 8011 BV\, Netherla
 nds
X-APPLE-STRUCTURED-LOCATION;VALUE=URI;X-ADDRESS=Nachtegaalstraat 25C\, Zwol
 le\, 8011 BV\, Netherlands;X-APPLE-RADIUS=100;X-TITLE=Test Location:geo:0,
 0
END:VEVENT
BEGIN:VEVENT
UID:34@nahelp.org
DTSTART;TZID=Europe/Amsterdam:20230515T200000
DTEND;TZID=Europe/Amsterdam:20230515T211500
DTSTAMP:20221126T174003Z
URL:https://nahelp.org/events/a-way-out-group-monday-2023-05-15/
SUMMARY:A Way Out Group - Monday
DESCRIPTION:
LOCATION:Test Location\, Nachtegaalstraat 25C\, Zwolle\, 8011 BV\, Netherla
 nds
X-APPLE-STRUCTURED-LOCATION;VALUE=URI;X-ADDRESS=Nachtegaalstraat 25C\, Zwol
 le\, 8011 BV\, Netherlands;X-APPLE-RADIUS=100;X-TITLE=Test Location:geo:0,
 0
END:VEVENT
BEGIN:VEVENT
UID:35@nahelp.org
DTSTART;TZID=Europe/Amsterdam:20230522T200000
DTEND;TZID=Europe/Amsterdam:20230522T211500
DTSTAMP:20221126T174003Z
URL:https://nahelp.org/events/a-way-out-group-monday-2023-05-22/
SUMMARY:A Way Out Group - Monday
DESCRIPTION:
LOCATION:Test Location\, Nachtegaalstraat 25C\, Zwolle\, 8011 BV\, Netherla
 nds
X-APPLE-STRUCTURED-LOCATION;VALUE=URI;X-ADDRESS=Nachtegaalstraat 25C\, Zwol
 le\, 8011 BV\, Netherlands;X-APPLE-RADIUS=100;X-TITLE=Test Location:geo:0,
 0
END:VEVENT
BEGIN:VEVENT
UID:36@nahelp.org
DTSTART;TZID=Europe/Amsterdam:20230529T200000
DTEND;TZID=Europe/Amsterdam:20230529T211500
DTSTAMP:20221126T174003Z
URL:https://nahelp.org/events/a-way-out-group-monday-2023-05-29/
SUMMARY:A Way Out Group - Monday
DESCRIPTION:
LOCATION:Test Location\, Nachtegaalstraat 25C\, Zwolle\, 8011 BV\, Netherla
 nds
X-APPLE-STRUCTURED-LOCATION;VALUE=URI;X-ADDRESS=Nachtegaalstraat 25C\, Zwol
 le\, 8011 BV\, Netherlands;X-APPLE-RADIUS=100;X-TITLE=Test Location:geo:0,
 0
END:VEVENT
BEGIN:VEVENT
UID:37@nahelp.org
DTSTART;TZID=Europe/Amsterdam:20230605T200000
DTEND;TZID=Europe/Amsterdam:20230605T211500
DTSTAMP:20221126T174003Z
URL:https://nahelp.org/events/a-way-out-group-monday-2023-06-05/
SUMMARY:A Way Out Group - Monday
DESCRIPTION:
LOCATION:Test Location\, Nachtegaalstraat 25C\, Zwolle\, 8011 BV\, Netherla
 nds
X-APPLE-STRUCTURED-LOCATION;VALUE=URI;X-ADDRESS=Nachtegaalstraat 25C\, Zwol
 le\, 8011 BV\, Netherlands;X-APPLE-RADIUS=100;X-TITLE=Test Location:geo:0,
 0
END:VEVENT
BEGIN:VEVENT
UID:38@nahelp.org
DTSTART;TZID=Europe/Amsterdam:20230612T200000
DTEND;TZID=Europe/Amsterdam:20230612T211500
DTSTAMP:20221126T174003Z
URL:https://nahelp.org/events/a-way-out-group-monday-2023-06-12/
SUMMARY:A Way Out Group - Monday
DESCRIPTION:
LOCATION:Test Location\, Nachtegaalstraat 25C\, Zwolle\, 8011 BV\, Netherla
 nds
X-APPLE-STRUCTURED-LOCATION;VALUE=URI;X-ADDRESS=Nachtegaalstraat 25C\, Zwol
 le\, 8011 BV\, Netherlands;X-APPLE-RADIUS=100;X-TITLE=Test Location:geo:0,
 0
END:VEVENT
BEGIN:VEVENT
UID:39@nahelp.org
DTSTART;TZID=Europe/Amsterdam:20230619T200000
DTEND;TZID=Europe/Amsterdam:20230619T211500
DTSTAMP:20221126T174003Z
URL:https://nahelp.org/events/a-way-out-group-monday-2023-06-19/
SUMMARY:A Way Out Group - Monday
DESCRIPTION:
LOCATION:Test Location\, Nachtegaalstraat 25C\, Zwolle\, 8011 BV\, Netherla
 nds
X-APPLE-STRUCTURED-LOCATION;VALUE=URI;X-ADDRESS=Nachtegaalstraat 25C\, Zwol
 le\, 8011 BV\, Netherlands;X-APPLE-RADIUS=100;X-TITLE=Test Location:geo:0,
 0
END:VEVENT
BEGIN:VEVENT
UID:40@nahelp.org
DTSTART;TZID=Europe/Amsterdam:20230626T200000
DTEND;TZID=Europe/Amsterdam:20230626T211500
DTSTAMP:20221126T174003Z
URL:https://nahelp.org/events/a-way-out-group-monday-2023-06-26/
SUMMARY:A Way Out Group - Monday
DESCRIPTION:
LOCATION:Test Location\, Nachtegaalstraat 25C\, Zwolle\, 8011 BV\, Netherla
 nds
X-APPLE-STRUCTURED-LOCATION;VALUE=URI;X-ADDRESS=Nachtegaalstraat 25C\, Zwol
 le\, 8011 BV\, Netherlands;X-APPLE-RADIUS=100;X-TITLE=Test Location:geo:0,
 0
END:VEVENT
BEGIN:VEVENT
UID:41@nahelp.org
DTSTART;TZID=Europe/Amsterdam:20230703T200000
DTEND;TZID=Europe/Amsterdam:20230703T211500
DTSTAMP:20221126T174003Z
URL:https://nahelp.org/events/a-way-out-group-monday-2023-07-03/
SUMMARY:A Way Out Group - Monday
DESCRIPTION:
LOCATION:Test Location\, Nachtegaalstraat 25C\, Zwolle\, 8011 BV\, Netherla
 nds
X-APPLE-STRUCTURED-LOCATION;VALUE=URI;X-ADDRESS=Nachtegaalstraat 25C\, Zwol
 le\, 8011 BV\, Netherlands;X-APPLE-RADIUS=100;X-TITLE=Test Location:geo:0,
 0
END:VEVENT
BEGIN:VEVENT
UID:42@nahelp.org
DTSTART;TZID=Europe/Amsterdam:20230710T200000
DTEND;TZID=Europe/Amsterdam:20230710T211500
DTSTAMP:20221126T174003Z
URL:https://nahelp.org/events/a-way-out-group-monday-2023-07-10/
SUMMARY:A Way Out Group - Monday
DESCRIPTION:
LOCATION:Test Location\, Nachtegaalstraat 25C\, Zwolle\, 8011 BV\, Netherla
 nds
X-APPLE-STRUCTURED-LOCATION;VALUE=URI;X-ADDRESS=Nachtegaalstraat 25C\, Zwol
 le\, 8011 BV\, Netherlands;X-APPLE-RADIUS=100;X-TITLE=Test Location:geo:0,
 0
END:VEVENT
BEGIN:VEVENT
UID:43@nahelp.org
DTSTART;TZID=Europe/Amsterdam:20230717T200000
DTEND;TZID=Europe/Amsterdam:20230717T211500
DTSTAMP:20221126T174003Z
URL:https://nahelp.org/events/a-way-out-group-monday-2023-07-17/
SUMMARY:A Way Out Group - Monday
DESCRIPTION:
LOCATION:Test Location\, Nachtegaalstraat 25C\, Zwolle\, 8011 BV\, Netherla
 nds
X-APPLE-STRUCTURED-LOCATION;VALUE=URI;X-ADDRESS=Nachtegaalstraat 25C\, Zwol
 le\, 8011 BV\, Netherlands;X-APPLE-RADIUS=100;X-TITLE=Test Location:geo:0,
 0
END:VEVENT
BEGIN:VEVENT
UID:44@nahelp.org
DTSTART;TZID=Europe/Amsterdam:20230724T200000
DTEND;TZID=Europe/Amsterdam:20230724T211500
DTSTAMP:20221126T174003Z
URL:https://nahelp.org/events/a-way-out-group-monday-2023-07-24/
SUMMARY:A Way Out Group - Monday
DESCRIPTION:
LOCATION:Test Location\, Nachtegaalstraat 25C\, Zwolle\, 8011 BV\, Netherla
 nds
X-APPLE-STRUCTURED-LOCATION;VALUE=URI;X-ADDRESS=Nachtegaalstraat 25C\, Zwol
 le\, 8011 BV\, Netherlands;X-APPLE-RADIUS=100;X-TITLE=Test Location:geo:0,
 0
END:VEVENT
BEGIN:VEVENT
UID:45@nahelp.org
DTSTART;TZID=Europe/Amsterdam:20230731T200000
DTEND;TZID=Europe/Amsterdam:20230731T211500
DTSTAMP:20221126T174003Z
URL:https://nahelp.org/events/a-way-out-group-monday-2023-07-31/
SUMMARY:A Way Out Group - Monday
DESCRIPTION:
LOCATION:Test Location\, Nachtegaalstraat 25C\, Zwolle\, 8011 BV\, Netherla
 nds
X-APPLE-STRUCTURED-LOCATION;VALUE=URI;X-ADDRESS=Nachtegaalstraat 25C\, Zwol
 le\, 8011 BV\, Netherlands;X-APPLE-RADIUS=100;X-TITLE=Test Location:geo:0,
 0
END:VEVENT
BEGIN:VEVENT
UID:46@nahelp.org
DTSTART;TZID=Europe/Amsterdam:20230807T200000
DTEND;TZID=Europe/Amsterdam:20230807T211500
DTSTAMP:20221126T174003Z
URL:https://nahelp.org/events/a-way-out-group-monday-2023-08-07/
SUMMARY:A Way Out Group - Monday
DESCRIPTION:
LOCATION:Test Location\, Nachtegaalstraat 25C\, Zwolle\, 8011 BV\, Netherla
 nds
X-APPLE-STRUCTURED-LOCATION;VALUE=URI;X-ADDRESS=Nachtegaalstraat 25C\, Zwol
 le\, 8011 BV\, Netherlands;X-APPLE-RADIUS=100;X-TITLE=Test Location:geo:0,
 0
END:VEVENT
BEGIN:VEVENT
UID:47@nahelp.org
DTSTART;TZID=Europe/Amsterdam:20230814T200000
DTEND;TZID=Europe/Amsterdam:20230814T211500
DTSTAMP:20221126T174003Z
URL:https://nahelp.org/events/a-way-out-group-monday-2023-08-14/
SUMMARY:A Way Out Group - Monday
DESCRIPTION:
LOCATION:Test Location\, Nachtegaalstraat 25C\, Zwolle\, 8011 BV\, Netherla
 nds
X-APPLE-STRUCTURED-LOCATION;VALUE=URI;X-ADDRESS=Nachtegaalstraat 25C\, Zwol
 le\, 8011 BV\, Netherlands;X-APPLE-RADIUS=100;X-TITLE=Test Location:geo:0,
 0
END:VEVENT
BEGIN:VEVENT
UID:48@nahelp.org
DTSTART;TZID=Europe/Amsterdam:20230821T200000
DTEND;TZID=Europe/Amsterdam:20230821T211500
DTSTAMP:20221126T174003Z
URL:https://nahelp.org/events/a-way-out-group-monday-2023-08-21/
SUMMARY:A Way Out Group - Monday
DESCRIPTION:
LOCATION:Test Location\, Nachtegaalstraat 25C\, Zwolle\, 8011 BV\, Netherla
 nds
X-APPLE-STRUCTURED-LOCATION;VALUE=URI;X-ADDRESS=Nachtegaalstraat 25C\, Zwol
 le\, 8011 BV\, Netherlands;X-APPLE-RADIUS=100;X-TITLE=Test Location:geo:0,
 0
END:VEVENT
BEGIN:VEVENT
UID:49@nahelp.org
DTSTART;TZID=Europe/Amsterdam:20230828T200000
DTEND;TZID=Europe/Amsterdam:20230828T211500
DTSTAMP:20221126T174003Z
URL:https://nahelp.org/events/a-way-out-group-monday-2023-08-28/
SUMMARY:A Way Out Group - Monday
DESCRIPTION:
LOCATION:Test Location\, Nachtegaalstraat 25C\, Zwolle\, 8011 BV\, Netherla
 nds
X-APPLE-STRUCTURED-LOCATION;VALUE=URI;X-ADDRESS=Nachtegaalstraat 25C\, Zwol
 le\, 8011 BV\, Netherlands;X-APPLE-RADIUS=100;X-TITLE=Test Location:geo:0,
 0
END:VEVENT
BEGIN:VEVENT
UID:50@nahelp.org
DTSTART;TZID=Europe/Amsterdam:20230904T200000
DTEND;TZID=Europe/Amsterdam:20230904T211500
DTSTAMP:20221126T174003Z
URL:https://nahelp.org/events/a-way-out-group-monday-2023-09-04/
SUMMARY:A Way Out Group - Monday
DESCRIPTION:
LOCATION:Test Location\, Nachtegaalstraat 25C\, Zwolle\, 8011 BV\, Netherla
 nds
X-APPLE-STRUCTURED-LOCATION;VALUE=URI;X-ADDRESS=Nachtegaalstraat 25C\, Zwol
 le\, 8011 BV\, Netherlands;X-APPLE-RADIUS=100;X-TITLE=Test Location:geo:0,
 0
END:VEVENT
BEGIN:VEVENT
UID:51@nahelp.org
DTSTART;TZID=Europe/Amsterdam:20230911T200000
DTEND;TZID=Europe/Amsterdam:20230911T211500
DTSTAMP:20221126T174003Z
URL:https://nahelp.org/events/a-way-out-group-monday-2023-09-11/
SUMMARY:A Way Out Group - Monday
DESCRIPTION:
LOCATION:Test Location\, Nachtegaalstraat 25C\, Zwolle\, 8011 BV\, Netherla
 nds
X-APPLE-STRUCTURED-LOCATION;VALUE=URI;X-ADDRESS=Nachtegaalstraat 25C\, Zwol
 le\, 8011 BV\, Netherlands;X-APPLE-RADIUS=100;X-TITLE=Test Location:geo:0,
 0
END:VEVENT
BEGIN:VTIMEZONE
TZID:Europe/Amsterdam
X-LIC-LOCATION:Europe/Amsterdam
BEGIN:DAYLIGHT
DTSTART:20220327T030000
TZOFFSETFROM:+0100
TZOFFSETTO:+0200
TZNAME:CEST
END:DAYLIGHT
BEGIN:STANDARD
DTSTART:20221030T020000
TZOFFSETFROM:+0200
TZOFFSETTO:+0100
TZNAME:CET
END:STANDARD
BEGIN:DAYLIGHT
DTSTART:20230326T030000
TZOFFSETFROM:+0100
TZOFFSETTO:+0200
TZNAME:CEST
END:DAYLIGHT
END:VTIMEZONE
END:VCALENDAR