BEGIN:VCALENDAR
VERSION:2.0
PRODID:-//wp-events-plugin.com//7.2.3.1//EN
TZID:America/New_York
X-WR-TIMEZONE:America/New_York
BEGIN:VEVENT
UID:282@nahelp.org
DTSTART;TZID=Europe/Amsterdam:20280214T200000
DTEND;TZID=Europe/Amsterdam:20280214T211500
DTSTAMP:20221126T174003Z
URL:https://nahelp.org/events/a-way-out-group-monday-2028-02-14/
SUMMARY:A Way Out Group - Monday
DESCRIPTION:
LOCATION:Test Location\, Nachtegaalstraat 25C\, Zwolle\, 8011 BV\, Netherla
 nds
X-APPLE-STRUCTURED-LOCATION;VALUE=URI;X-ADDRESS=Nachtegaalstraat 25C\, Zwol
 le\, 8011 BV\, Netherlands;X-APPLE-RADIUS=100;X-TITLE=Test Location:geo:0,
 0
END:VEVENT
BEGIN:VTIMEZONE
TZID:Europe/Amsterdam
X-LIC-LOCATION:Europe/Amsterdam
BEGIN:STANDARD
DTSTART:20271031T020000
TZOFFSETFROM:+0200
TZOFFSETTO:+0100
TZNAME:CET
END:STANDARD
END:VTIMEZONE
END:VCALENDAR