BEGIN:VCALENDAR
VERSION:2.0
PRODID:-//A.S.I.S. for NA - ECPv6.15.20//NONSGML v1.0//EN
CALSCALE:GREGORIAN
METHOD:PUBLISH
X-ORIGINAL-URL:https://nahelp.org
X-WR-CALDESC:Events for A.S.I.S. for NA
REFRESH-INTERVAL;VALUE=DURATION:PT1H
X-Robots-Tag:noindex
X-PUBLISHED-TTL:PT1H
BEGIN:VTIMEZONE
TZID:America/New_York
BEGIN:DAYLIGHT
TZOFFSETFROM:-0500
TZOFFSETTO:-0400
TZNAME:EDT
DTSTART:20240310T070000
END:DAYLIGHT
BEGIN:STANDARD
TZOFFSETFROM:-0400
TZOFFSETTO:-0500
TZNAME:EST
DTSTART:20241103T060000
END:STANDARD
BEGIN:DAYLIGHT
TZOFFSETFROM:-0500
TZOFFSETTO:-0400
TZNAME:EDT
DTSTART:20250309T070000
END:DAYLIGHT
BEGIN:STANDARD
TZOFFSETFROM:-0400
TZOFFSETTO:-0500
TZNAME:EST
DTSTART:20251102T060000
END:STANDARD
BEGIN:DAYLIGHT
TZOFFSETFROM:-0500
TZOFFSETTO:-0400
TZNAME:EDT
DTSTART:20260308T070000
END:DAYLIGHT
BEGIN:STANDARD
TZOFFSETFROM:-0400
TZOFFSETTO:-0500
TZNAME:EST
DTSTART:20261101T060000
END:STANDARD
END:VTIMEZONE
BEGIN:VTIMEZONE
TZID:Europe/Amsterdam
BEGIN:DAYLIGHT
TZOFFSETFROM:+0100
TZOFFSETTO:+0200
TZNAME:CEST
DTSTART:20230326T010000
END:DAYLIGHT
BEGIN:STANDARD
TZOFFSETFROM:+0200
TZOFFSETTO:+0100
TZNAME:CET
DTSTART:20231029T010000
END:STANDARD
BEGIN:DAYLIGHT
TZOFFSETFROM:+0100
TZOFFSETTO:+0200
TZNAME:CEST
DTSTART:20240331T010000
END:DAYLIGHT
BEGIN:STANDARD
TZOFFSETFROM:+0200
TZOFFSETTO:+0100
TZNAME:CET
DTSTART:20241027T010000
END:STANDARD
BEGIN:DAYLIGHT
TZOFFSETFROM:+0100
TZOFFSETTO:+0200
TZNAME:CEST
DTSTART:20250330T010000
END:DAYLIGHT
BEGIN:STANDARD
TZOFFSETFROM:+0200
TZOFFSETTO:+0100
TZNAME:CET
DTSTART:20251026T010000
END:STANDARD
END:VTIMEZONE
BEGIN:VEVENT
DTSTART;VALUE=DATE:20250628
DTEND;VALUE=DATE:20250629
DTSTAMP:20260424T055441
CREATED:20250519T190402Z
LAST-MODIFIED:20250519T190416Z
UID:1827-1751068800-1751155199@nahelp.org
SUMMARY:UNITY DAY SUMMER 2025
DESCRIPTION:A day of unity; sharing\, meetings\, food and fellowship. \nStarting time: 10:30\nWe are asking for a suggested donation of 10 pounds per person (towards food and venue rent) \nContacts; via WhatsApp:\nDave +44 7583718905\nMatt +44 7867520207 \nParking: please follow directions and utilise the parking down the road opposite in Ellis Fields.
URL:https://nahelp.org/event/unity-day-summer-2025/
LOCATION:Little Burstead Village hall\, Laindon Common Rd\, Little Burstead\, Billericay CM12 9TJ\, United Kingdom\, Billericay\, Essex\, CM12 9TJ\, United Kingdom
ATTACH;FMTTYPE=image/png:https://nahelp.org/wp-content/uploads/2025/05/Unity-Day-Summer-2025-Billericay-1.png
END:VEVENT
BEGIN:VEVENT
DTSTART;VALUE=DATE:20250221
DTEND;VALUE=DATE:20250224
DTSTAMP:20260424T055441
CREATED:20240902T163455Z
LAST-MODIFIED:20240902T163455Z
UID:1659-1740096000-1740355199@nahelp.org
SUMMARY:12 Step Retreat - Columbiana\, Ohio
DESCRIPTION:The Groups of Northern Columbiana County Area of Narcotics Anonymous presents \nAnnual 12 Step Retreat February\, 21\,22&23\, 2025 \nDas Dutch Village Inn \n150 East State Route 14 \nColumbiana\, Ohio 44408 \n  \nWhat to expect: Speakers\, Discussion\, Coffee\, \nReal NA Old School Recovery! \nOnly $5.00 for the weekend if you pre-register – $10.00 at the door  \nNO addict EVER turned away! \n  \nPre-register by e-mailing stepretreat@yahoo.com \n  \nRooms call for Price per night for 2 adults ($10.00 additional for each adult) \nReserve your room by January 1\, 2025\, and mention you are with the NA Retreat to get the discounted price – Call \n330-482-5050 \nReserve your room by January 1\, 2025\, and mention you are with the NA Retreat to get the discounted price – Call \n330-482-5050 \n  \nDownload Flyer
URL:https://nahelp.org/event/12-step-retreat-columbiana-ohio/
LOCATION:Das Dutch Village Inn\, 150 East State Route 14\, Columbiana\, OH\, 44408\, United States
ATTACH;FMTTYPE=image/png:https://nahelp.org/wp-content/uploads/2024/09/12-Step-Retreat-The-Groups-of-Northern-Columbiana-County-Area-of-Narcotics-Anonymous-presents.png
ORGANIZER;CN="The Groups of Northern Columbiana County Area of Narcotics Anonymous":MAILTO:stepretreat@yahoo.com
END:VEVENT
BEGIN:VEVENT
DTSTART;VALUE=DATE:20240912
DTEND;VALUE=DATE:20240916
DTSTAMP:20260424T055441
CREATED:20210912T144618Z
LAST-MODIFIED:20230911T232139Z
UID:662-1726099200-1726444799@nahelp.org
SUMMARY:8th annual European Fellowship Service Conference
DESCRIPTION:
URL:https://nahelp.org/event/european-fellowship-service-conference/
LOCATION:De Kroeze Danne\, Kappelhofsweg 14\, Ambt Delden\, 7495RN\, Netherlands
END:VEVENT
END:VCALENDAR