BEGIN:VCALENDAR
VERSION:2.0
PRODID:-//A.S.I.S. for NA - ECPv6.15.20//NONSGML v1.0//EN
CALSCALE:GREGORIAN
METHOD:PUBLISH
X-ORIGINAL-URL:https://nahelp.org
X-WR-CALDESC:Events for A.S.I.S. for NA
REFRESH-INTERVAL;VALUE=DURATION:PT1H
X-Robots-Tag:noindex
X-PUBLISHED-TTL:PT1H
BEGIN:VTIMEZONE
TZID:America/New_York
BEGIN:DAYLIGHT
TZOFFSETFROM:-0500
TZOFFSETTO:-0400
TZNAME:EDT
DTSTART:20250309T070000
END:DAYLIGHT
BEGIN:STANDARD
TZOFFSETFROM:-0400
TZOFFSETTO:-0500
TZNAME:EST
DTSTART:20251102T060000
END:STANDARD
BEGIN:DAYLIGHT
TZOFFSETFROM:-0500
TZOFFSETTO:-0400
TZNAME:EDT
DTSTART:20260308T070000
END:DAYLIGHT
BEGIN:STANDARD
TZOFFSETFROM:-0400
TZOFFSETTO:-0500
TZNAME:EST
DTSTART:20261101T060000
END:STANDARD
BEGIN:DAYLIGHT
TZOFFSETFROM:-0500
TZOFFSETTO:-0400
TZNAME:EDT
DTSTART:20270314T070000
END:DAYLIGHT
BEGIN:STANDARD
TZOFFSETFROM:-0400
TZOFFSETTO:-0500
TZNAME:EST
DTSTART:20271107T060000
END:STANDARD
END:VTIMEZONE
BEGIN:VEVENT
DTSTART;VALUE=DATE:20260626
DTEND;VALUE=DATE:20260629
DTSTAMP:20260424T075002
CREATED:20210912T140335Z
LAST-MODIFIED:20260211T174440Z
UID:657-1782432000-1782691199@nahelp.org
SUMMARY:21st Annual Fellowship Service Conference
DESCRIPTION:Cost: $140 per person. \nArrival time: 5PM \nPrice includes all meals (and lodging if needed)\nThere is no registration fee\, all money goes directly to pay for the facility and food. \nBring sheets\, pillows\, towels\, and soap. Everything else is provided. \nWrite checks payable to Historical Perspective Group\nFor more information: Contact Historical Perspective Group\n(610)428-9923 Ask for Ray: or e-mail matrixmatclub@yahoo.com\nCheck out our Website www.nahelp.org \nSend check to: A.S.I.S. for NA\, PO Box 4404 Allentown\, PA 18105. Write Checks payable to historical Perspective Group of NA \n 
URL:https://nahelp.org/event/fellowship-service-conference/
LOCATION:Olivet Blue Mountain Camp\, 1540 Mountain Ave\, Hamburg\, PA\, 19526\, United States
ATTACH;FMTTYPE=image/png:https://nahelp.org/wp-content/uploads/2026/02/Fellowship-Service-Conference-Flyer-2026.png
ORGANIZER;CN="Historical Perspective Group":MAILTO:matrixmatclub@yahoo.com
END:VEVENT
END:VCALENDAR